BEGIN:VCALENDAR
VERSION:2.0
PRODID:-//Spring of Life Fellowship - ECPv6.9.0//NONSGML v1.0//EN
CALSCALE:GREGORIAN
METHOD:PUBLISH
X-ORIGINAL-URL:https://solmiami.org
X-WR-CALDESC:Events for Spring of Life Fellowship
REFRESH-INTERVAL;VALUE=DURATION:PT1H
X-Robots-Tag:noindex
X-PUBLISHED-TTL:PT1H
BEGIN:VTIMEZONE
TZID:America/New_York
BEGIN:DAYLIGHT
TZOFFSETFROM:-0500
TZOFFSETTO:-0400
TZNAME:EDT
DTSTART:20230312T070000
END:DAYLIGHT
BEGIN:STANDARD
TZOFFSETFROM:-0400
TZOFFSETTO:-0500
TZNAME:EST
DTSTART:20231105T060000
END:STANDARD
END:VTIMEZONE
BEGIN:VEVENT
DTSTART;TZID=America/New_York:20230910T120000
DTEND;TZID=America/New_York:20230910T120000
DTSTAMP:20260424T155222
CREATED:20160710T180832Z
LAST-MODIFIED:20160710T180832Z
UID:83169-1694347200-1694347200@solmiami.org
SUMMARY:Sunday Afternoon Spanish Service
DESCRIPTION:
URL:https://solmiami.org/event/afternoon-sunday-service-2-2023-09-10/
LOCATION:Spring of Life Fellowship\, 2029 NW 87th Ave\, Doral\, FL\, 33172\, United States
CATEGORIES:Events
ATTACH;FMTTYPE=image/jpeg:/wp-content/uploads/2015/04/sol-logo.jpg
ORGANIZER;CN="SOL Miami":MAILTO:hello@solmiami.org
END:VEVENT
BEGIN:VEVENT
DTSTART;TZID=America/New_York:20230910T120000
DTEND;TZID=America/New_York:20230910T120000
DTSTAMP:20260424T155222
CREATED:20160710T180832Z
LAST-MODIFIED:20160710T180832Z
UID:83171-1694347200-1694347200@solmiami.org
SUMMARY:Sunday Afternoon Spanish Service
DESCRIPTION:
URL:https://solmiami.org/event/afternoon-sunday-service-2-2023-04-30-2023-09-10/
LOCATION:Spring of Life Fellowship\, 2029 NW 87th Ave\, Doral\, FL\, 33172\, United States
CATEGORIES:Events
ATTACH;FMTTYPE=image/jpeg:/wp-content/uploads/2015/04/sol-logo.jpg
ORGANIZER;CN="SOL Miami":MAILTO:hello@solmiami.org
END:VEVENT
BEGIN:VEVENT
DTSTART;TZID=America/New_York:20230910T180000
DTEND;TZID=America/New_York:20230910T180000
DTSTAMP:20260424T155222
CREATED:20210504T101935Z
LAST-MODIFIED:20210504T101935Z
UID:83172-1694368800-1694368800@solmiami.org
SUMMARY:Sunday Evening Service
DESCRIPTION:
URL:https://solmiami.org/event/sunday-evening-service-2023-09-10/
LOCATION:Spring of Life Fellowship\, 2029 NW 87th Ave\, Doral\, FL\, 33172\, United States
ATTACH;FMTTYPE=image/jpeg:/wp-content/uploads/2015/04/sol-logo.jpg
END:VEVENT
BEGIN:VEVENT
DTSTART;TZID=America/New_York:20230911T200000
DTEND;TZID=America/New_York:20230911T200000
DTSTAMP:20260424T155222
CREATED:20160731T104700Z
LAST-MODIFIED:20160731T104700Z
UID:83297-1694462400-1694462400@solmiami.org
SUMMARY:Men's Meeting
DESCRIPTION:
URL:https://solmiami.org/event/mens-meeting-5-2023-09-11/
LOCATION:Spring of Life Fellowship\, 2029 NW 87th Ave\, Doral\, FL\, 33172\, United States
ATTACH;FMTTYPE=image/jpeg:/wp-content/uploads/2016/07/mens.jpg
END:VEVENT
BEGIN:VEVENT
DTSTART;TZID=America/New_York:20230913T190000
DTEND;TZID=America/New_York:20230913T190000
DTSTAMP:20260424T155222
CREATED:20160731T003149Z
LAST-MODIFIED:20160731T003149Z
UID:83534-1694631600-1694631600@solmiami.org
SUMMARY:Mid Week Wednesday Service
DESCRIPTION:
URL:https://solmiami.org/event/mid-week-wednesday-service-8-2023-09-13/
LOCATION:Spring of Life Fellowship\, 2029 NW 87th Ave\, Doral\, FL\, 33172\, United States
CATEGORIES:Events
ATTACH;FMTTYPE=image/jpeg:/wp-content/uploads/2015/04/sol-logo.jpg
ORGANIZER;CN="SOL Miami":MAILTO:hello@solmiami.org
END:VEVENT
BEGIN:VEVENT
DTSTART;TZID=America/New_York:20230914T200000
DTEND;TZID=America/New_York:20230914T200000
DTSTAMP:20260424T155222
CREATED:20190106T093711Z
LAST-MODIFIED:20190106T093711Z
UID:83655-1694721600-1694721600@solmiami.org
SUMMARY:Prayer Service
DESCRIPTION:
URL:https://solmiami.org/event/prayer-service-2-2023-09-14/
LOCATION:Spring of Life Fellowship\, 2029 NW 87th Ave\, Doral\, FL\, 33172\, United States
CATEGORIES:Events
ATTACH;FMTTYPE=image/jpeg:/wp-content/uploads/2015/04/sol-logo.jpg
END:VEVENT
BEGIN:VEVENT
DTSTART;TZID=America/New_York:20230915T190000
DTEND;TZID=America/New_York:20230915T190000
DTSTAMP:20260424T155222
CREATED:20160803T221922Z
LAST-MODIFIED:20160803T221922Z
UID:83771-1694804400-1694804400@solmiami.org
SUMMARY:LYF/ LOL
DESCRIPTION:
URL:https://solmiami.org/event/lyf-lol-2023-09-15/
LOCATION:Spring of Life Fellowship\, 2029 NW 87th Ave\, Doral\, FL\, 33172\, United States
ATTACH;FMTTYPE=image/jpeg:/wp-content/uploads/2021/04/youth-english-1024x576_no_time.jpg
ORGANIZER;CN="SOL Miami":MAILTO:hello@solmiami.org
END:VEVENT
BEGIN:VEVENT
DTSTART;TZID=America/New_York:20230916T190000
DTEND;TZID=America/New_York:20230916T190000
DTSTAMP:20260424T155222
CREATED:20160731T003102Z
LAST-MODIFIED:20160731T003102Z
UID:83892-1694890800-1694890800@solmiami.org
SUMMARY:Living Stones: Youth and Young Adults
DESCRIPTION:
URL:https://solmiami.org/event/living-stones-youth-and-young-adults-7-2023-09-16/
LOCATION:FL
ATTACH;FMTTYPE=image/jpeg:/wp-content/uploads/2016/07/ls-logo.jpg
END:VEVENT
BEGIN:VEVENT
DTSTART;TZID=America/New_York:20230917T090000
DTEND;TZID=America/New_York:20230917T090000
DTSTAMP:20260424T155222
CREATED:20160731T003350Z
LAST-MODIFIED:20160731T003350Z
UID:84014-1694941200-1694941200@solmiami.org
SUMMARY:Sunday Morning English Service
DESCRIPTION:
URL:https://solmiami.org/event/morning-sunday-service-7-2023-09-17/
LOCATION:Spring of Life Fellowship\, 2029 NW 87th Ave\, Doral\, FL\, 33172\, United States
CATEGORIES:Events
ATTACH;FMTTYPE=image/jpeg:/wp-content/uploads/2015/04/sol-logo.jpg
ORGANIZER;CN="SOL Miami":MAILTO:hello@solmiami.org
END:VEVENT
BEGIN:VEVENT
DTSTART;TZID=America/New_York:20230917T120000
DTEND;TZID=America/New_York:20230917T120000
DTSTAMP:20260424T155222
CREATED:20160710T180832Z
LAST-MODIFIED:20160710T180832Z
UID:84013-1694952000-1694952000@solmiami.org
SUMMARY:Sunday Afternoon Spanish Service
DESCRIPTION:
URL:https://solmiami.org/event/afternoon-sunday-service-2-2023-09-17/
LOCATION:Spring of Life Fellowship\, 2029 NW 87th Ave\, Doral\, FL\, 33172\, United States
CATEGORIES:Events
ATTACH;FMTTYPE=image/jpeg:/wp-content/uploads/2015/04/sol-logo.jpg
ORGANIZER;CN="SOL Miami":MAILTO:hello@solmiami.org
END:VEVENT
BEGIN:VEVENT
DTSTART;TZID=America/New_York:20230917T120000
DTEND;TZID=America/New_York:20230917T120000
DTSTAMP:20260424T155222
CREATED:20160710T180832Z
LAST-MODIFIED:20160710T180832Z
UID:84015-1694952000-1694952000@solmiami.org
SUMMARY:Sunday Afternoon Spanish Service
DESCRIPTION:
URL:https://solmiami.org/event/afternoon-sunday-service-2-2023-04-30-2023-09-17/
LOCATION:Spring of Life Fellowship\, 2029 NW 87th Ave\, Doral\, FL\, 33172\, United States
CATEGORIES:Events
ATTACH;FMTTYPE=image/jpeg:/wp-content/uploads/2015/04/sol-logo.jpg
ORGANIZER;CN="SOL Miami":MAILTO:hello@solmiami.org
END:VEVENT
BEGIN:VEVENT
DTSTART;TZID=America/New_York:20230917T180000
DTEND;TZID=America/New_York:20230917T180000
DTSTAMP:20260424T155222
CREATED:20210504T101935Z
LAST-MODIFIED:20210504T101935Z
UID:84016-1694973600-1694973600@solmiami.org
SUMMARY:Sunday Evening Service
DESCRIPTION:
URL:https://solmiami.org/event/sunday-evening-service-2023-09-17/
LOCATION:Spring of Life Fellowship\, 2029 NW 87th Ave\, Doral\, FL\, 33172\, United States
ATTACH;FMTTYPE=image/jpeg:/wp-content/uploads/2015/04/sol-logo.jpg
END:VEVENT
BEGIN:VEVENT
DTSTART;TZID=America/New_York:20230918T200000
DTEND;TZID=America/New_York:20230918T200000
DTSTAMP:20260424T155222
CREATED:20160731T104700Z
LAST-MODIFIED:20160731T104700Z
UID:84132-1695067200-1695067200@solmiami.org
SUMMARY:Men's Meeting
DESCRIPTION:
URL:https://solmiami.org/event/mens-meeting-5-2023-09-18/
LOCATION:Spring of Life Fellowship\, 2029 NW 87th Ave\, Doral\, FL\, 33172\, United States
ATTACH;FMTTYPE=image/jpeg:/wp-content/uploads/2016/07/mens.jpg
END:VEVENT
BEGIN:VEVENT
DTSTART;TZID=America/New_York:20230920T190000
DTEND;TZID=America/New_York:20230920T190000
DTSTAMP:20260424T155222
CREATED:20160731T003149Z
LAST-MODIFIED:20160731T003149Z
UID:84374-1695236400-1695236400@solmiami.org
SUMMARY:Mid Week Wednesday Service
DESCRIPTION:
URL:https://solmiami.org/event/mid-week-wednesday-service-8-2023-09-20/
LOCATION:Spring of Life Fellowship\, 2029 NW 87th Ave\, Doral\, FL\, 33172\, United States
CATEGORIES:Events
ATTACH;FMTTYPE=image/jpeg:/wp-content/uploads/2015/04/sol-logo.jpg
ORGANIZER;CN="SOL Miami":MAILTO:hello@solmiami.org
END:VEVENT
BEGIN:VEVENT
DTSTART;TZID=America/New_York:20230921T200000
DTEND;TZID=America/New_York:20230921T200000
DTSTAMP:20260424T155222
CREATED:20190106T093711Z
LAST-MODIFIED:20190106T093711Z
UID:84499-1695326400-1695326400@solmiami.org
SUMMARY:Prayer Service
DESCRIPTION:
URL:https://solmiami.org/event/prayer-service-2-2023-09-21/
LOCATION:Spring of Life Fellowship\, 2029 NW 87th Ave\, Doral\, FL\, 33172\, United States
CATEGORIES:Events
ATTACH;FMTTYPE=image/jpeg:/wp-content/uploads/2015/04/sol-logo.jpg
END:VEVENT
BEGIN:VEVENT
DTSTART;TZID=America/New_York:20230922T190000
DTEND;TZID=America/New_York:20230922T190000
DTSTAMP:20260424T155222
CREATED:20160803T221922Z
LAST-MODIFIED:20160803T221922Z
UID:84625-1695409200-1695409200@solmiami.org
SUMMARY:LYF/ LOL
DESCRIPTION:
URL:https://solmiami.org/event/lyf-lol-2023-09-22/
LOCATION:Spring of Life Fellowship\, 2029 NW 87th Ave\, Doral\, FL\, 33172\, United States
ATTACH;FMTTYPE=image/jpeg:/wp-content/uploads/2021/04/youth-english-1024x576_no_time.jpg
ORGANIZER;CN="SOL Miami":MAILTO:hello@solmiami.org
END:VEVENT
BEGIN:VEVENT
DTSTART;TZID=America/New_York:20230923T190000
DTEND;TZID=America/New_York:20230923T190000
DTSTAMP:20260424T155222
CREATED:20160731T003102Z
LAST-MODIFIED:20160731T003102Z
UID:84746-1695495600-1695495600@solmiami.org
SUMMARY:Living Stones: Youth and Young Adults
DESCRIPTION:
URL:https://solmiami.org/event/living-stones-youth-and-young-adults-7-2023-09-23/
LOCATION:FL
ATTACH;FMTTYPE=image/jpeg:/wp-content/uploads/2016/07/ls-logo.jpg
END:VEVENT
BEGIN:VEVENT
DTSTART;TZID=America/New_York:20230924T090000
DTEND;TZID=America/New_York:20230924T090000
DTSTAMP:20260424T155223
CREATED:20160731T003350Z
LAST-MODIFIED:20160731T003350Z
UID:84868-1695546000-1695546000@solmiami.org
SUMMARY:Sunday Morning English Service
DESCRIPTION:
URL:https://solmiami.org/event/morning-sunday-service-7-2023-09-24/
LOCATION:Spring of Life Fellowship\, 2029 NW 87th Ave\, Doral\, FL\, 33172\, United States
CATEGORIES:Events
ATTACH;FMTTYPE=image/jpeg:/wp-content/uploads/2015/04/sol-logo.jpg
ORGANIZER;CN="SOL Miami":MAILTO:hello@solmiami.org
END:VEVENT
BEGIN:VEVENT
DTSTART;TZID=America/New_York:20230924T120000
DTEND;TZID=America/New_York:20230924T120000
DTSTAMP:20260424T155223
CREATED:20160710T180832Z
LAST-MODIFIED:20160710T180832Z
UID:84869-1695556800-1695556800@solmiami.org
SUMMARY:Sunday Afternoon Spanish Service
DESCRIPTION:
URL:https://solmiami.org/event/afternoon-sunday-service-2-2023-04-30-2023-09-24/
LOCATION:Spring of Life Fellowship\, 2029 NW 87th Ave\, Doral\, FL\, 33172\, United States
CATEGORIES:Events
ATTACH;FMTTYPE=image/jpeg:/wp-content/uploads/2015/04/sol-logo.jpg
ORGANIZER;CN="SOL Miami":MAILTO:hello@solmiami.org
END:VEVENT
BEGIN:VEVENT
DTSTART;TZID=America/New_York:20230924T120000
DTEND;TZID=America/New_York:20230924T120000
DTSTAMP:20260424T155223
CREATED:20160710T180832Z
LAST-MODIFIED:20160710T180832Z
UID:84867-1695556800-1695556800@solmiami.org
SUMMARY:Sunday Afternoon Spanish Service
DESCRIPTION:
URL:https://solmiami.org/event/afternoon-sunday-service-2-2023-09-24/
LOCATION:Spring of Life Fellowship\, 2029 NW 87th Ave\, Doral\, FL\, 33172\, United States
CATEGORIES:Events
ATTACH;FMTTYPE=image/jpeg:/wp-content/uploads/2015/04/sol-logo.jpg
ORGANIZER;CN="SOL Miami":MAILTO:hello@solmiami.org
END:VEVENT
BEGIN:VEVENT
DTSTART;TZID=America/New_York:20230924T180000
DTEND;TZID=America/New_York:20230924T180000
DTSTAMP:20260424T155223
CREATED:20210504T101935Z
LAST-MODIFIED:20210504T101935Z
UID:84870-1695578400-1695578400@solmiami.org
SUMMARY:Sunday Evening Service
DESCRIPTION:
URL:https://solmiami.org/event/sunday-evening-service-2023-09-24/
LOCATION:Spring of Life Fellowship\, 2029 NW 87th Ave\, Doral\, FL\, 33172\, United States
ATTACH;FMTTYPE=image/jpeg:/wp-content/uploads/2015/04/sol-logo.jpg
END:VEVENT
BEGIN:VEVENT
DTSTART;TZID=America/New_York:20230925T200000
DTEND;TZID=America/New_York:20230925T200000
DTSTAMP:20260424T155223
CREATED:20160731T104700Z
LAST-MODIFIED:20160731T104700Z
UID:84986-1695672000-1695672000@solmiami.org
SUMMARY:Men's Meeting
DESCRIPTION:
URL:https://solmiami.org/event/mens-meeting-5-2023-09-25/
LOCATION:Spring of Life Fellowship\, 2029 NW 87th Ave\, Doral\, FL\, 33172\, United States
ATTACH;FMTTYPE=image/jpeg:/wp-content/uploads/2016/07/mens.jpg
END:VEVENT
BEGIN:VEVENT
DTSTART;TZID=America/New_York:20230927T190000
DTEND;TZID=America/New_York:20230927T190000
DTSTAMP:20260424T155223
CREATED:20160731T003149Z
LAST-MODIFIED:20160731T003149Z
UID:85228-1695841200-1695841200@solmiami.org
SUMMARY:Mid Week Wednesday Service
DESCRIPTION:
URL:https://solmiami.org/event/mid-week-wednesday-service-8-2023-09-27/
LOCATION:Spring of Life Fellowship\, 2029 NW 87th Ave\, Doral\, FL\, 33172\, United States
CATEGORIES:Events
ATTACH;FMTTYPE=image/jpeg:/wp-content/uploads/2015/04/sol-logo.jpg
ORGANIZER;CN="SOL Miami":MAILTO:hello@solmiami.org
END:VEVENT
BEGIN:VEVENT
DTSTART;TZID=America/New_York:20230928T200000
DTEND;TZID=America/New_York:20230928T200000
DTSTAMP:20260424T155223
CREATED:20190106T093711Z
LAST-MODIFIED:20190106T093711Z
UID:85344-1695931200-1695931200@solmiami.org
SUMMARY:Prayer Service
DESCRIPTION:
URL:https://solmiami.org/event/prayer-service-2-2023-09-28/
LOCATION:Spring of Life Fellowship\, 2029 NW 87th Ave\, Doral\, FL\, 33172\, United States
CATEGORIES:Events
ATTACH;FMTTYPE=image/jpeg:/wp-content/uploads/2015/04/sol-logo.jpg
END:VEVENT
BEGIN:VEVENT
DTSTART;TZID=America/New_York:20230929T190000
DTEND;TZID=America/New_York:20230929T190000
DTSTAMP:20260424T155223
CREATED:20160803T221922Z
LAST-MODIFIED:20160803T221922Z
UID:85465-1696014000-1696014000@solmiami.org
SUMMARY:LYF/ LOL
DESCRIPTION:
URL:https://solmiami.org/event/lyf-lol-2023-09-29/
LOCATION:Spring of Life Fellowship\, 2029 NW 87th Ave\, Doral\, FL\, 33172\, United States
ATTACH;FMTTYPE=image/jpeg:/wp-content/uploads/2021/04/youth-english-1024x576_no_time.jpg
ORGANIZER;CN="SOL Miami":MAILTO:hello@solmiami.org
END:VEVENT
BEGIN:VEVENT
DTSTART;TZID=America/New_York:20230930T190000
DTEND;TZID=America/New_York:20230930T190000
DTSTAMP:20260424T155223
CREATED:20160731T003102Z
LAST-MODIFIED:20160731T003102Z
UID:85586-1696100400-1696100400@solmiami.org
SUMMARY:Living Stones: Youth and Young Adults
DESCRIPTION:
URL:https://solmiami.org/event/living-stones-youth-and-young-adults-7-2023-09-30/
LOCATION:FL
ATTACH;FMTTYPE=image/jpeg:/wp-content/uploads/2016/07/ls-logo.jpg
END:VEVENT
BEGIN:VEVENT
DTSTART;TZID=America/New_York:20231001T090000
DTEND;TZID=America/New_York:20231001T090000
DTSTAMP:20260424T155223
CREATED:20160731T003350Z
LAST-MODIFIED:20160731T003350Z
UID:85703-1696150800-1696150800@solmiami.org
SUMMARY:Sunday Morning English Service
DESCRIPTION:
URL:https://solmiami.org/event/morning-sunday-service-7-2023-10-01/
LOCATION:Spring of Life Fellowship\, 2029 NW 87th Ave\, Doral\, FL\, 33172\, United States
CATEGORIES:Events
ATTACH;FMTTYPE=image/jpeg:/wp-content/uploads/2015/04/sol-logo.jpg
ORGANIZER;CN="SOL Miami":MAILTO:hello@solmiami.org
END:VEVENT
BEGIN:VEVENT
DTSTART;TZID=America/New_York:20231001T120000
DTEND;TZID=America/New_York:20231001T120000
DTSTAMP:20260424T155223
CREATED:20160710T180832Z
LAST-MODIFIED:20160710T180832Z
UID:85702-1696161600-1696161600@solmiami.org
SUMMARY:Sunday Afternoon Spanish Service
DESCRIPTION:
URL:https://solmiami.org/event/afternoon-sunday-service-2-2023-10-01/
LOCATION:Spring of Life Fellowship\, 2029 NW 87th Ave\, Doral\, FL\, 33172\, United States
CATEGORIES:Events
ATTACH;FMTTYPE=image/jpeg:/wp-content/uploads/2015/04/sol-logo.jpg
ORGANIZER;CN="SOL Miami":MAILTO:hello@solmiami.org
END:VEVENT
BEGIN:VEVENT
DTSTART;TZID=America/New_York:20231001T120000
DTEND;TZID=America/New_York:20231001T120000
DTSTAMP:20260424T155223
CREATED:20160710T180832Z
LAST-MODIFIED:20160710T180832Z
UID:85704-1696161600-1696161600@solmiami.org
SUMMARY:Sunday Afternoon Spanish Service
DESCRIPTION:
URL:https://solmiami.org/event/afternoon-sunday-service-2-2023-04-30-2023-10-01/
LOCATION:Spring of Life Fellowship\, 2029 NW 87th Ave\, Doral\, FL\, 33172\, United States
CATEGORIES:Events
ATTACH;FMTTYPE=image/jpeg:/wp-content/uploads/2015/04/sol-logo.jpg
ORGANIZER;CN="SOL Miami":MAILTO:hello@solmiami.org
END:VEVENT
BEGIN:VEVENT
DTSTART;TZID=America/New_York:20231001T180000
DTEND;TZID=America/New_York:20231001T180000
DTSTAMP:20260424T155223
CREATED:20210504T101935Z
LAST-MODIFIED:20210504T101935Z
UID:85705-1696183200-1696183200@solmiami.org
SUMMARY:Sunday Evening Service
DESCRIPTION:
URL:https://solmiami.org/event/sunday-evening-service-2023-10-01/
LOCATION:Spring of Life Fellowship\, 2029 NW 87th Ave\, Doral\, FL\, 33172\, United States
ATTACH;FMTTYPE=image/jpeg:/wp-content/uploads/2015/04/sol-logo.jpg
END:VEVENT
END:VCALENDAR