BEGIN:VCALENDAR
VERSION:2.0
PRODID:-//Spring of Life Fellowship - ECPv6.9.0//NONSGML v1.0//EN
CALSCALE:GREGORIAN
METHOD:PUBLISH
X-ORIGINAL-URL:https://solmiami.org
X-WR-CALDESC:Events for Spring of Life Fellowship
REFRESH-INTERVAL;VALUE=DURATION:PT1H
X-Robots-Tag:noindex
X-PUBLISHED-TTL:PT1H
BEGIN:VTIMEZONE
TZID:America/New_York
BEGIN:DAYLIGHT
TZOFFSETFROM:-0500
TZOFFSETTO:-0400
TZNAME:EDT
DTSTART:20230312T070000
END:DAYLIGHT
BEGIN:STANDARD
TZOFFSETFROM:-0400
TZOFFSETTO:-0500
TZNAME:EST
DTSTART:20231105T060000
END:STANDARD
END:VTIMEZONE
BEGIN:VEVENT
DTSTART;TZID=America/New_York:20231008T120000
DTEND;TZID=America/New_York:20231008T120000
DTSTAMP:20260424T212635
CREATED:20160710T180832Z
LAST-MODIFIED:20160710T180832Z
UID:86560-1696766400-1696766400@solmiami.org
SUMMARY:Sunday Afternoon Spanish Service
DESCRIPTION:
URL:https://solmiami.org/event/afternoon-sunday-service-2-2023-10-08/
LOCATION:Spring of Life Fellowship\, 2029 NW 87th Ave\, Doral\, FL\, 33172\, United States
CATEGORIES:Events
ATTACH;FMTTYPE=image/jpeg:/wp-content/uploads/2015/04/sol-logo.jpg
ORGANIZER;CN="SOL Miami":MAILTO:hello@solmiami.org
END:VEVENT
BEGIN:VEVENT
DTSTART;TZID=America/New_York:20231008T120000
DTEND;TZID=America/New_York:20231008T120000
DTSTAMP:20260424T212636
CREATED:20160710T180832Z
LAST-MODIFIED:20160710T180832Z
UID:86562-1696766400-1696766400@solmiami.org
SUMMARY:Sunday Afternoon Spanish Service
DESCRIPTION:
URL:https://solmiami.org/event/afternoon-sunday-service-2-2023-04-30-2023-10-08/
LOCATION:Spring of Life Fellowship\, 2029 NW 87th Ave\, Doral\, FL\, 33172\, United States
CATEGORIES:Events
ATTACH;FMTTYPE=image/jpeg:/wp-content/uploads/2015/04/sol-logo.jpg
ORGANIZER;CN="SOL Miami":MAILTO:hello@solmiami.org
END:VEVENT
BEGIN:VEVENT
DTSTART;TZID=America/New_York:20231008T180000
DTEND;TZID=America/New_York:20231008T180000
DTSTAMP:20260424T212636
CREATED:20210504T101935Z
LAST-MODIFIED:20210504T101935Z
UID:86563-1696788000-1696788000@solmiami.org
SUMMARY:Sunday Evening Service
DESCRIPTION:
URL:https://solmiami.org/event/sunday-evening-service-2023-10-08/
LOCATION:Spring of Life Fellowship\, 2029 NW 87th Ave\, Doral\, FL\, 33172\, United States
ATTACH;FMTTYPE=image/jpeg:/wp-content/uploads/2015/04/sol-logo.jpg
END:VEVENT
BEGIN:VEVENT
DTSTART;TZID=America/New_York:20231009T200000
DTEND;TZID=America/New_York:20231009T200000
DTSTAMP:20260424T212636
CREATED:20160731T104700Z
LAST-MODIFIED:20160731T104700Z
UID:86679-1696881600-1696881600@solmiami.org
SUMMARY:Men's Meeting
DESCRIPTION:
URL:https://solmiami.org/event/mens-meeting-5-2023-10-09/
LOCATION:Spring of Life Fellowship\, 2029 NW 87th Ave\, Doral\, FL\, 33172\, United States
ATTACH;FMTTYPE=image/jpeg:/wp-content/uploads/2016/07/mens.jpg
END:VEVENT
BEGIN:VEVENT
DTSTART;TZID=America/New_York:20231011T190000
DTEND;TZID=America/New_York:20231011T190000
DTSTAMP:20260424T212636
CREATED:20160731T003149Z
LAST-MODIFIED:20160731T003149Z
UID:86921-1697050800-1697050800@solmiami.org
SUMMARY:Mid Week Wednesday Service
DESCRIPTION:
URL:https://solmiami.org/event/mid-week-wednesday-service-8-2023-10-11/
LOCATION:Spring of Life Fellowship\, 2029 NW 87th Ave\, Doral\, FL\, 33172\, United States
CATEGORIES:Events
ATTACH;FMTTYPE=image/jpeg:/wp-content/uploads/2015/04/sol-logo.jpg
ORGANIZER;CN="SOL Miami":MAILTO:hello@solmiami.org
END:VEVENT
BEGIN:VEVENT
DTSTART;TZID=America/New_York:20231012T200000
DTEND;TZID=America/New_York:20231012T200000
DTSTAMP:20260424T212636
CREATED:20190106T093711Z
LAST-MODIFIED:20190106T093711Z
UID:87037-1697140800-1697140800@solmiami.org
SUMMARY:Prayer Service
DESCRIPTION:
URL:https://solmiami.org/event/prayer-service-2-2023-10-12/
LOCATION:Spring of Life Fellowship\, 2029 NW 87th Ave\, Doral\, FL\, 33172\, United States
CATEGORIES:Events
ATTACH;FMTTYPE=image/jpeg:/wp-content/uploads/2015/04/sol-logo.jpg
END:VEVENT
BEGIN:VEVENT
DTSTART;TZID=America/New_York:20231013T190000
DTEND;TZID=America/New_York:20231013T190000
DTSTAMP:20260424T212636
CREATED:20160803T221922Z
LAST-MODIFIED:20160803T221922Z
UID:87158-1697223600-1697223600@solmiami.org
SUMMARY:LYF/ LOL
DESCRIPTION:
URL:https://solmiami.org/event/lyf-lol-2023-10-13/
LOCATION:Spring of Life Fellowship\, 2029 NW 87th Ave\, Doral\, FL\, 33172\, United States
ATTACH;FMTTYPE=image/jpeg:/wp-content/uploads/2021/04/youth-english-1024x576_no_time.jpg
ORGANIZER;CN="SOL Miami":MAILTO:hello@solmiami.org
END:VEVENT
BEGIN:VEVENT
DTSTART;TZID=America/New_York:20231014T190000
DTEND;TZID=America/New_York:20231014T190000
DTSTAMP:20260424T212636
CREATED:20160731T003102Z
LAST-MODIFIED:20160731T003102Z
UID:87282-1697310000-1697310000@solmiami.org
SUMMARY:Living Stones: Youth and Young Adults
DESCRIPTION:
URL:https://solmiami.org/event/living-stones-youth-and-young-adults-7-2023-10-14/
LOCATION:FL
ATTACH;FMTTYPE=image/jpeg:/wp-content/uploads/2016/07/ls-logo.jpg
END:VEVENT
BEGIN:VEVENT
DTSTART;TZID=America/New_York:20231015T090000
DTEND;TZID=America/New_York:20231015T090000
DTSTAMP:20260424T212636
CREATED:20160731T003350Z
LAST-MODIFIED:20160731T003350Z
UID:87404-1697360400-1697360400@solmiami.org
SUMMARY:Sunday Morning English Service
DESCRIPTION:
URL:https://solmiami.org/event/morning-sunday-service-7-2023-10-15/
LOCATION:Spring of Life Fellowship\, 2029 NW 87th Ave\, Doral\, FL\, 33172\, United States
CATEGORIES:Events
ATTACH;FMTTYPE=image/jpeg:/wp-content/uploads/2015/04/sol-logo.jpg
ORGANIZER;CN="SOL Miami":MAILTO:hello@solmiami.org
END:VEVENT
BEGIN:VEVENT
DTSTART;TZID=America/New_York:20231015T120000
DTEND;TZID=America/New_York:20231015T120000
DTSTAMP:20260424T212636
CREATED:20160710T180832Z
LAST-MODIFIED:20160710T180832Z
UID:87403-1697371200-1697371200@solmiami.org
SUMMARY:Sunday Afternoon Spanish Service
DESCRIPTION:
URL:https://solmiami.org/event/afternoon-sunday-service-2-2023-10-15/
LOCATION:Spring of Life Fellowship\, 2029 NW 87th Ave\, Doral\, FL\, 33172\, United States
CATEGORIES:Events
ATTACH;FMTTYPE=image/jpeg:/wp-content/uploads/2015/04/sol-logo.jpg
ORGANIZER;CN="SOL Miami":MAILTO:hello@solmiami.org
END:VEVENT
BEGIN:VEVENT
DTSTART;TZID=America/New_York:20231015T120000
DTEND;TZID=America/New_York:20231015T120000
DTSTAMP:20260424T212636
CREATED:20160710T180832Z
LAST-MODIFIED:20160710T180832Z
UID:87405-1697371200-1697371200@solmiami.org
SUMMARY:Sunday Afternoon Spanish Service
DESCRIPTION:
URL:https://solmiami.org/event/afternoon-sunday-service-2-2023-04-30-2023-10-15/
LOCATION:Spring of Life Fellowship\, 2029 NW 87th Ave\, Doral\, FL\, 33172\, United States
CATEGORIES:Events
ATTACH;FMTTYPE=image/jpeg:/wp-content/uploads/2015/04/sol-logo.jpg
ORGANIZER;CN="SOL Miami":MAILTO:hello@solmiami.org
END:VEVENT
BEGIN:VEVENT
DTSTART;TZID=America/New_York:20231015T180000
DTEND;TZID=America/New_York:20231015T180000
DTSTAMP:20260424T212636
CREATED:20210504T101935Z
LAST-MODIFIED:20210504T101935Z
UID:87406-1697392800-1697392800@solmiami.org
SUMMARY:Sunday Evening Service
DESCRIPTION:
URL:https://solmiami.org/event/sunday-evening-service-2023-10-15/
LOCATION:Spring of Life Fellowship\, 2029 NW 87th Ave\, Doral\, FL\, 33172\, United States
ATTACH;FMTTYPE=image/jpeg:/wp-content/uploads/2015/04/sol-logo.jpg
END:VEVENT
BEGIN:VEVENT
DTSTART;TZID=America/New_York:20231016T200000
DTEND;TZID=America/New_York:20231016T200000
DTSTAMP:20260424T212636
CREATED:20160731T104700Z
LAST-MODIFIED:20160731T104700Z
UID:87527-1697486400-1697486400@solmiami.org
SUMMARY:Men's Meeting
DESCRIPTION:
URL:https://solmiami.org/event/mens-meeting-5-2023-10-16/
LOCATION:Spring of Life Fellowship\, 2029 NW 87th Ave\, Doral\, FL\, 33172\, United States
ATTACH;FMTTYPE=image/jpeg:/wp-content/uploads/2016/07/mens.jpg
END:VEVENT
BEGIN:VEVENT
DTSTART;TZID=America/New_York:20231018T190000
DTEND;TZID=America/New_York:20231018T190000
DTSTAMP:20260424T212636
CREATED:20160731T003149Z
LAST-MODIFIED:20160731T003149Z
UID:87764-1697655600-1697655600@solmiami.org
SUMMARY:Mid Week Wednesday Service
DESCRIPTION:
URL:https://solmiami.org/event/mid-week-wednesday-service-8-2023-10-18/
LOCATION:Spring of Life Fellowship\, 2029 NW 87th Ave\, Doral\, FL\, 33172\, United States
CATEGORIES:Events
ATTACH;FMTTYPE=image/jpeg:/wp-content/uploads/2015/04/sol-logo.jpg
ORGANIZER;CN="SOL Miami":MAILTO:hello@solmiami.org
END:VEVENT
BEGIN:VEVENT
DTSTART;TZID=America/New_York:20231019T200000
DTEND;TZID=America/New_York:20231019T200000
DTSTAMP:20260424T212636
CREATED:20190106T093711Z
LAST-MODIFIED:20190106T093711Z
UID:87881-1697745600-1697745600@solmiami.org
SUMMARY:Prayer Service
DESCRIPTION:
URL:https://solmiami.org/event/prayer-service-2-2023-10-19/
LOCATION:Spring of Life Fellowship\, 2029 NW 87th Ave\, Doral\, FL\, 33172\, United States
CATEGORIES:Events
ATTACH;FMTTYPE=image/jpeg:/wp-content/uploads/2015/04/sol-logo.jpg
END:VEVENT
BEGIN:VEVENT
DTSTART;TZID=America/New_York:20231020T190000
DTEND;TZID=America/New_York:20231020T190000
DTSTAMP:20260424T212636
CREATED:20160803T221922Z
LAST-MODIFIED:20160803T221922Z
UID:88002-1697828400-1697828400@solmiami.org
SUMMARY:LYF/ LOL
DESCRIPTION:
URL:https://solmiami.org/event/lyf-lol-2023-10-20/
LOCATION:Spring of Life Fellowship\, 2029 NW 87th Ave\, Doral\, FL\, 33172\, United States
ATTACH;FMTTYPE=image/jpeg:/wp-content/uploads/2021/04/youth-english-1024x576_no_time.jpg
ORGANIZER;CN="SOL Miami":MAILTO:hello@solmiami.org
END:VEVENT
BEGIN:VEVENT
DTSTART;TZID=America/New_York:20231021T190000
DTEND;TZID=America/New_York:20231021T190000
DTSTAMP:20260424T212636
CREATED:20160731T003102Z
LAST-MODIFIED:20160731T003102Z
UID:88123-1697914800-1697914800@solmiami.org
SUMMARY:Living Stones: Youth and Young Adults
DESCRIPTION:
URL:https://solmiami.org/event/living-stones-youth-and-young-adults-7-2023-10-21/
LOCATION:FL
ATTACH;FMTTYPE=image/jpeg:/wp-content/uploads/2016/07/ls-logo.jpg
END:VEVENT
BEGIN:VEVENT
DTSTART;TZID=America/New_York:20231022T090000
DTEND;TZID=America/New_York:20231022T090000
DTSTAMP:20260424T212636
CREATED:20160731T003350Z
LAST-MODIFIED:20160731T003350Z
UID:88240-1697965200-1697965200@solmiami.org
SUMMARY:Sunday Morning English Service
DESCRIPTION:
URL:https://solmiami.org/event/morning-sunday-service-7-2023-10-22/
LOCATION:Spring of Life Fellowship\, 2029 NW 87th Ave\, Doral\, FL\, 33172\, United States
CATEGORIES:Events
ATTACH;FMTTYPE=image/jpeg:/wp-content/uploads/2015/04/sol-logo.jpg
ORGANIZER;CN="SOL Miami":MAILTO:hello@solmiami.org
END:VEVENT
BEGIN:VEVENT
DTSTART;TZID=America/New_York:20231022T120000
DTEND;TZID=America/New_York:20231022T120000
DTSTAMP:20260424T212636
CREATED:20160710T180832Z
LAST-MODIFIED:20160710T180832Z
UID:88241-1697976000-1697976000@solmiami.org
SUMMARY:Sunday Afternoon Spanish Service
DESCRIPTION:
URL:https://solmiami.org/event/afternoon-sunday-service-2-2023-04-30-2023-10-22/
LOCATION:Spring of Life Fellowship\, 2029 NW 87th Ave\, Doral\, FL\, 33172\, United States
CATEGORIES:Events
ATTACH;FMTTYPE=image/jpeg:/wp-content/uploads/2015/04/sol-logo.jpg
ORGANIZER;CN="SOL Miami":MAILTO:hello@solmiami.org
END:VEVENT
BEGIN:VEVENT
DTSTART;TZID=America/New_York:20231022T120000
DTEND;TZID=America/New_York:20231022T120000
DTSTAMP:20260424T212636
CREATED:20160710T180832Z
LAST-MODIFIED:20160710T180832Z
UID:88239-1697976000-1697976000@solmiami.org
SUMMARY:Sunday Afternoon Spanish Service
DESCRIPTION:
URL:https://solmiami.org/event/afternoon-sunday-service-2-2023-10-22/
LOCATION:Spring of Life Fellowship\, 2029 NW 87th Ave\, Doral\, FL\, 33172\, United States
CATEGORIES:Events
ATTACH;FMTTYPE=image/jpeg:/wp-content/uploads/2015/04/sol-logo.jpg
ORGANIZER;CN="SOL Miami":MAILTO:hello@solmiami.org
END:VEVENT
BEGIN:VEVENT
DTSTART;TZID=America/New_York:20231022T180000
DTEND;TZID=America/New_York:20231022T180000
DTSTAMP:20260424T212636
CREATED:20210504T101935Z
LAST-MODIFIED:20210504T101935Z
UID:88242-1697997600-1697997600@solmiami.org
SUMMARY:Sunday Evening Service
DESCRIPTION:
URL:https://solmiami.org/event/sunday-evening-service-2023-10-22/
LOCATION:Spring of Life Fellowship\, 2029 NW 87th Ave\, Doral\, FL\, 33172\, United States
ATTACH;FMTTYPE=image/jpeg:/wp-content/uploads/2015/04/sol-logo.jpg
END:VEVENT
BEGIN:VEVENT
DTSTART;TZID=America/New_York:20231023T200000
DTEND;TZID=America/New_York:20231023T200000
DTSTAMP:20260424T212636
CREATED:20160731T104700Z
LAST-MODIFIED:20160731T104700Z
UID:88363-1698091200-1698091200@solmiami.org
SUMMARY:Men's Meeting
DESCRIPTION:
URL:https://solmiami.org/event/mens-meeting-5-2023-10-23/
LOCATION:Spring of Life Fellowship\, 2029 NW 87th Ave\, Doral\, FL\, 33172\, United States
ATTACH;FMTTYPE=image/jpeg:/wp-content/uploads/2016/07/mens.jpg
END:VEVENT
BEGIN:VEVENT
DTSTART;TZID=America/New_York:20231025T190000
DTEND;TZID=America/New_York:20231025T190000
DTSTAMP:20260424T212636
CREATED:20160731T003149Z
LAST-MODIFIED:20160731T003149Z
UID:88600-1698260400-1698260400@solmiami.org
SUMMARY:Mid Week Wednesday Service
DESCRIPTION:
URL:https://solmiami.org/event/mid-week-wednesday-service-8-2023-10-25/
LOCATION:Spring of Life Fellowship\, 2029 NW 87th Ave\, Doral\, FL\, 33172\, United States
CATEGORIES:Events
ATTACH;FMTTYPE=image/jpeg:/wp-content/uploads/2015/04/sol-logo.jpg
ORGANIZER;CN="SOL Miami":MAILTO:hello@solmiami.org
END:VEVENT
BEGIN:VEVENT
DTSTART;TZID=America/New_York:20231026T200000
DTEND;TZID=America/New_York:20231026T200000
DTSTAMP:20260424T212636
CREATED:20190106T093711Z
LAST-MODIFIED:20190106T093711Z
UID:88721-1698350400-1698350400@solmiami.org
SUMMARY:Prayer Service
DESCRIPTION:
URL:https://solmiami.org/event/prayer-service-2-2023-10-26/
LOCATION:Spring of Life Fellowship\, 2029 NW 87th Ave\, Doral\, FL\, 33172\, United States
CATEGORIES:Events
ATTACH;FMTTYPE=image/jpeg:/wp-content/uploads/2015/04/sol-logo.jpg
END:VEVENT
BEGIN:VEVENT
DTSTART;TZID=America/New_York:20231027T190000
DTEND;TZID=America/New_York:20231027T190000
DTSTAMP:20260424T212636
CREATED:20160803T221922Z
LAST-MODIFIED:20160803T221922Z
UID:88842-1698433200-1698433200@solmiami.org
SUMMARY:LYF/ LOL
DESCRIPTION:
URL:https://solmiami.org/event/lyf-lol-2023-10-27/
LOCATION:Spring of Life Fellowship\, 2029 NW 87th Ave\, Doral\, FL\, 33172\, United States
ATTACH;FMTTYPE=image/jpeg:/wp-content/uploads/2021/04/youth-english-1024x576_no_time.jpg
ORGANIZER;CN="SOL Miami":MAILTO:hello@solmiami.org
END:VEVENT
BEGIN:VEVENT
DTSTART;TZID=America/New_York:20231028T190000
DTEND;TZID=America/New_York:20231028T190000
DTSTAMP:20260424T212636
CREATED:20160731T003102Z
LAST-MODIFIED:20160731T003102Z
UID:88972-1698519600-1698519600@solmiami.org
SUMMARY:Living Stones: Youth and Young Adults
DESCRIPTION:
URL:https://solmiami.org/event/living-stones-youth-and-young-adults-7-2023-10-28/
LOCATION:FL
ATTACH;FMTTYPE=image/jpeg:/wp-content/uploads/2016/07/ls-logo.jpg
END:VEVENT
BEGIN:VEVENT
DTSTART;TZID=America/New_York:20231029T090000
DTEND;TZID=America/New_York:20231029T090000
DTSTAMP:20260424T212636
CREATED:20160731T003350Z
LAST-MODIFIED:20160731T003350Z
UID:89094-1698570000-1698570000@solmiami.org
SUMMARY:Sunday Morning English Service
DESCRIPTION:
URL:https://solmiami.org/event/morning-sunday-service-7-2023-10-29/
LOCATION:Spring of Life Fellowship\, 2029 NW 87th Ave\, Doral\, FL\, 33172\, United States
CATEGORIES:Events
ATTACH;FMTTYPE=image/jpeg:/wp-content/uploads/2015/04/sol-logo.jpg
ORGANIZER;CN="SOL Miami":MAILTO:hello@solmiami.org
END:VEVENT
BEGIN:VEVENT
DTSTART;TZID=America/New_York:20231029T120000
DTEND;TZID=America/New_York:20231029T120000
DTSTAMP:20260424T212636
CREATED:20160710T180832Z
LAST-MODIFIED:20160710T180832Z
UID:89093-1698580800-1698580800@solmiami.org
SUMMARY:Sunday Afternoon Spanish Service
DESCRIPTION:
URL:https://solmiami.org/event/afternoon-sunday-service-2-2023-10-29/
LOCATION:Spring of Life Fellowship\, 2029 NW 87th Ave\, Doral\, FL\, 33172\, United States
CATEGORIES:Events
ATTACH;FMTTYPE=image/jpeg:/wp-content/uploads/2015/04/sol-logo.jpg
ORGANIZER;CN="SOL Miami":MAILTO:hello@solmiami.org
END:VEVENT
BEGIN:VEVENT
DTSTART;TZID=America/New_York:20231029T120000
DTEND;TZID=America/New_York:20231029T120000
DTSTAMP:20260424T212636
CREATED:20160710T180832Z
LAST-MODIFIED:20160710T180832Z
UID:89095-1698580800-1698580800@solmiami.org
SUMMARY:Sunday Afternoon Spanish Service
DESCRIPTION:
URL:https://solmiami.org/event/afternoon-sunday-service-2-2023-04-30-2023-10-29/
LOCATION:Spring of Life Fellowship\, 2029 NW 87th Ave\, Doral\, FL\, 33172\, United States
CATEGORIES:Events
ATTACH;FMTTYPE=image/jpeg:/wp-content/uploads/2015/04/sol-logo.jpg
ORGANIZER;CN="SOL Miami":MAILTO:hello@solmiami.org
END:VEVENT
BEGIN:VEVENT
DTSTART;TZID=America/New_York:20231029T180000
DTEND;TZID=America/New_York:20231029T180000
DTSTAMP:20260424T212636
CREATED:20210504T101935Z
LAST-MODIFIED:20210504T101935Z
UID:89096-1698602400-1698602400@solmiami.org
SUMMARY:Sunday Evening Service
DESCRIPTION:
URL:https://solmiami.org/event/sunday-evening-service-2023-10-29/
LOCATION:Spring of Life Fellowship\, 2029 NW 87th Ave\, Doral\, FL\, 33172\, United States
ATTACH;FMTTYPE=image/jpeg:/wp-content/uploads/2015/04/sol-logo.jpg
END:VEVENT
END:VCALENDAR